BEGIN:VCALENDAR
VERSION:2.0
PRODID:-//Anima Íntima - ECPv6.15.12.2//NONSGML v1.0//EN
CALSCALE:GREGORIAN
METHOD:PUBLISH
X-ORIGINAL-URL:https://animaintima.es
X-WR-CALDESC:Eventos para Anima Íntima
REFRESH-INTERVAL;VALUE=DURATION:PT1H
X-Robots-Tag:noindex
X-PUBLISHED-TTL:PT1H
BEGIN:VTIMEZONE
TZID:UTC
BEGIN:STANDARD
TZOFFSETFROM:+0000
TZOFFSETTO:+0000
TZNAME:UTC
DTSTART:20250101T000000
END:STANDARD
END:VTIMEZONE
BEGIN:VEVENT
DTSTART;TZID=UTC:20260424T190000
DTEND;TZID=UTC:20260424T213000
DTSTAMP:20260419T142410
CREATED:20260318T141733Z
LAST-MODIFIED:20260318T144129Z
UID:7584-1777057200-1777066200@animaintima.es
SUMMARY:Tantra para Parejas - Especial Sant Jordi
DESCRIPTION:Celebra San Jordi con una Velada Tántrica. Un encuentro idealizado para nutrir la relación a través de prácticas de Tantra en Pareja. \n\n\n\n\nTacto Consciente\n\n\n\nIntimidad y Eros\n\n\n\nTransfiguración\n\n\n\nComunicación Empática.\n\n\n\nLenguaje no verbal \n\n\n\n\nUna experiencia ideal para quienes quieran conocer nuevas formas de intimidad\, refrescar la relación y\, sobretodo\, conectar desde el alma con la persona amada. \n\n\n\nDe este encuentro te llevarás una serie de herramientas para practicar en el día  a día que van a enriquecer la intimidad en pareja y nutrir el aspecto erótico de la relación. \n\n\n\n¿No tienes pareja y quieres venir? Escríbenos un correo.  \n\n\n\nLas prácticas del taller están pensadas para que se pueda realizar entre amigos\, incluso entre personas que se conocerán en el día del taller. \n\n\n\nNo se realizarán prácticas eróticas ni desnudez en este taller. \n\n\n\nTaller realizado por Agni en colaboración con Esoteric Yoga Integral. \n\n\n\nPlazas limitadas\, reserva la tuya por info@animaintima.es \n\n\n\nAportación 50€ por pareja \n\n\n\nConoce nuestras sesiones de Tantra para Pareja: https://animaintima.es/masaje-parejas/
URL:https://animaintima.es/evento/tantra-para-parejas-especial-san-jordi/
LOCATION:Esoteric Yoga Integral\, Carrer Ciutat D´elx\, 9
ATTACH;FMTTYPE=image/webp:https://animaintima.es/wp-content/uploads/2026/01/tantra-en-pareja.webp
END:VEVENT
END:VCALENDAR